BEGIN:VCALENDAR
VERSION:2.0
PRODID:-// - ECPv4.6.20.1//NONSGML v1.0//EN
CALSCALE:GREGORIAN
METHOD:PUBLISH
X-ORIGINAL-URL:https://www.ecomuseodietamediterranea.it
X-WR-CALDESC:Events for 
BEGIN:VEVENT
DTSTART;TZID=Europe/Rome:20210805T073000
DTEND;TZID=Europe/Rome:20210926T120000
DTSTAMP:20260424T085228
CREATED:20210805T151719Z
LAST-MODIFIED:20210805T151719Z
UID:2181-1628148600-1632657600@www.ecomuseodietamediterranea.it
SUMMARY:Passeggiata al Colle Serra di Molino a Vento
DESCRIPTION:\n\n\n\nIl percorso parte dal centro di Pollica attraverso le vie storiche del paese che pian piano diventano asfalto per un piccolo tratto prima e sterrato dopo\, lungo la salita verso il Colle “Serra di molino a Vento” dove pare ebbe luogo il primo insediamento di Pollica e da dove si potrà godere di una vista panoramica di 360° tra mare e terra . Dal suddetto colle situato a 557 m s.l.m. \, esattamente dal versante est intraprenderemo la discesa verso l’incantevole frazione di Celso per fare un giro dell’ intero borgo noto come il luogo da cui ebbero inizio i moti rivoluzionari del meridione durante il periodo risorgimentale . Qui passeremo sotto i due edifici più imponenti\, il Palazzo Mazziotti oggi monumento nazionale e la Chiesa dell’Assunta risalente all’anno 1000 \, entrambi legati da un ponte in pietra. Al termine del giro si farà ritorno verso l’interno del paese attraverso la via bassa su asfalto per andare a riprendere il sentiero naturalistico detto “Ogliastrulo” che ci riporterà a Pollica tra macchia mediterranea\, rocce imponenti e panorami mozzafiato sul mare fino ad arrivare nei pressi del Convento di S.Maria delle Grazie da dove raggiungeremo nuovamente il nostro punto di partenza . \n\n\n\n\n
URL:https://www.ecomuseodietamediterranea.it/event/passeggiata-al-colle-serra-molino-vento/
LOCATION:Pollica\, Italia
CATEGORIES:Edizione 2021
END:VEVENT
BEGIN:VEVENT
DTSTART;TZID=Europe/Rome:20210819T073000
DTEND;TZID=Europe/Rome:20210909T123000
DTSTAMP:20260424T085228
CREATED:20210805T153018Z
LAST-MODIFIED:20210805T153018Z
UID:2186-1629358200-1631190600@www.ecomuseodietamediterranea.it
SUMMARY:L'anello dei borghi
DESCRIPTION:\n\n\nCannicchio\, Galdo\, Celso e Pollica in unica escursione\, per rivivere l’atmosfera del passato ripercorrendo le antiche vie di collegamento\, indugiando nella visita dei borghi incontrati lungo il cammino\, per rivivere la giornata tipica di un cilentano d’altri tempi\, questa volta non per necessità\, ma per il solo piacere della scoperta. Partendo da Cannicchio si ci inoltra nella zona detta “U’ MONACO” prima su asfalto e poi su sterrata che pian piano rivela la sua identità di mulattiera\, là dove altri mezzi non arrivano. All’improvviso tra rocce e muretti\, macchia e oliveti appare imponente l’alto campanile della chiesa di San Nicola che ci indica l’arrivo a Galdo. Proprio a partire da questo storico edificio ebbe inizio lo sviluppo del borgo verso l’alto\, ed è risalendo la collina attraverso scale e vicoli caratteristici che troviamo il “caffè letterario”\, unico ritrovo del paese. Poco distante dal Caffè si trova la salita che conduce al punto più alto del borgo per poi scendere sulla vecchia via comunale che in breve ci porta a Celso. Per entrare nell’affascinante e magico borgo di Celso si percorre un lungo ponte che finisce sotto l’arco di Palazzo Mazziotti dichiarato Monumento Nazionale\, per aprirsi nell’omonima piazza dove il tempo sembra essersi fermato. Continuando lungo la via principale si arriva ad una piccola fontana pubblica\, dove inizia via Velino\, nella quale si dice vivessero fate e Monacielli \, di sicuro era la via che collegava Celso a Velia\, da cui prese il nome. Da qui si arriva ai piedi del paese che termina con la “fontana di Valle”\, dove sembra sostassero le streghe per i loro sabba\, e dove gli abitanti ogni anno allestiscono un presepe intrecciando credenze pagane a tradizioni sacre che avvolgono questo luogo in un alone di mistero. Da qui parte la mulattiera che ci collega a Pollica\, che girando intorno al colle “Serra di Mulino a vento” termina nei pressi del Convento di Santa Maria delle Grazie. Da cui ci s’inoltra nel paese dove sovrasta il Castello dei Principi Capano\, tappa obbligata di questa escursione \n\n\n\n
URL:https://www.ecomuseodietamediterranea.it/event/lanello-dei-borghi/
LOCATION:Pollica
CATEGORIES:Edizione 2021
END:VEVENT
BEGIN:VEVENT
DTSTART;TZID=Europe/Rome:20210907T160000
DTEND;TZID=Europe/Rome:20210907T190000
DTSTAMP:20260424T085228
CREATED:20210805T151352Z
LAST-MODIFIED:20210805T151352Z
UID:2173-1631030400-1631041200@www.ecomuseodietamediterranea.it
SUMMARY:Sealab
DESCRIPTION:\n\n\n\nSummer School sulla Posidonia oceanica \n\n\n\n\n
URL:https://www.ecomuseodietamediterranea.it/event/sealab-2/
LOCATION:Pioppi\, Italia
CATEGORIES:Edizione 2021
END:VEVENT
END:VCALENDAR