BEGIN:VCALENDAR
VERSION:2.0
PRODID:-// - ECPv4.6.20.1//NONSGML v1.0//EN
CALSCALE:GREGORIAN
METHOD:PUBLISH
X-ORIGINAL-URL:https://www.ecomuseodietamediterranea.it
X-WR-CALDESC:Events for 
BEGIN:VEVENT
DTSTART;TZID=Europe/Rome:20200828T203000
DTEND;TZID=Europe/Rome:20200828T220000
DTSTAMP:20260423T041707
CREATED:20200804T101211Z
LAST-MODIFIED:20200804T101211Z
UID:1988-1598646600-1598652000@www.ecomuseodietamediterranea.it
SUMMARY:Pizza e Dieta mediterranea
DESCRIPTION:Tra gusto e Salute \nFranco Pepe Pizzeria Pepe in Grani \nAnnamaria Colao Endocrinologa Federico II \nmodera Francesca Marino Giornalista e Nutrizionista \n
URL:https://www.ecomuseodietamediterranea.it/event/pizza-dieta-mediterranea/
CATEGORIES:Edizione 2020,Incontri e dibattiti
END:VEVENT
BEGIN:VEVENT
DTSTART;TZID=Europe/Rome:20200828T220000
DTEND;TZID=Europe/Rome:20200828T233000
DTSTAMP:20260423T041707
CREATED:20200804T101346Z
LAST-MODIFIED:20200804T101346Z
UID:1990-1598652000-1598657400@www.ecomuseodietamediterranea.it
SUMMARY:Vurria
DESCRIPTION:Il canto della Terra di Napoli \nPeppe Visconti voce napoletana \nPierdomenico Di Benedetto pianoforte \n
URL:https://www.ecomuseodietamediterranea.it/event/vurria/
CATEGORIES:Concerti e Spettacoli,Edizione 2020
END:VEVENT
END:VCALENDAR