BEGIN:VCALENDAR
VERSION:2.0
PRODID:-// - ECPv4.6.20.1//NONSGML v1.0//EN
CALSCALE:GREGORIAN
METHOD:PUBLISH
X-ORIGINAL-URL:https://www.ecomuseodietamediterranea.it
X-WR-CALDESC:Events for 
BEGIN:VEVENT
DTSTART;TZID=Europe/Rome:20200809T060000
DTEND;TZID=Europe/Rome:20200809T070000
DTSTAMP:20260423T044106
CREATED:20200804T100231Z
LAST-MODIFIED:20200804T100231Z
UID:1974-1596952800-1596956400@www.ecomuseodietamediterranea.it
SUMMARY:Concerto all'alba
DESCRIPTION:con Giulio Martino sax\, Gianluigi Goglia basso e gli allievi della masterclass di jazz\, Arte di Improvvisare \n
URL:https://www.ecomuseodietamediterranea.it/event/concerto-allalba-2/
CATEGORIES:Edizione 2020,Jazz all'alba
END:VEVENT
BEGIN:VEVENT
DTSTART;TZID=Europe/Rome:20200809T190000
DTEND;TZID=Europe/Rome:20200809T203000
DTSTAMP:20260423T044107
CREATED:20200804T095452Z
LAST-MODIFIED:20200804T095452Z
UID:1966-1596999600-1597005000@www.ecomuseodietamediterranea.it
SUMMARY:Terroir - Il mare color del vino
DESCRIPTION:Viticoltura Biologica: problemi e soluzioni con Vincenzo Mercurio\, Nicola Venditti\, Nicola Lalla\, Maria Manuela Russo \n
URL:https://www.ecomuseodietamediterranea.it/event/terroir-mare-color-del-vino-4/
CATEGORIES:Edizione 2020
END:VEVENT
BEGIN:VEVENT
DTSTART;TZID=Europe/Rome:20200809T203000
DTEND;TZID=Europe/Rome:20200809T213000
DTSTAMP:20260423T044107
CREATED:20200804T095606Z
LAST-MODIFIED:20200804T095606Z
UID:1968-1597005000-1597008600@www.ecomuseodietamediterranea.it
SUMMARY:Terroir - Il mare color del vino
DESCRIPTION:Degustazione guidata a numero chiuso su prenotazione a cura della Scuola Europea Sommelier \n
URL:https://www.ecomuseodietamediterranea.it/event/terroir-mare-color-del-vino-5/
CATEGORIES:Edizione 2020
END:VEVENT
BEGIN:VEVENT
DTSTART;TZID=Europe/Rome:20200809T213000
DTEND;TZID=Europe/Rome:20200809T223000
DTSTAMP:20260423T044107
CREATED:20200804T095739Z
LAST-MODIFIED:20200804T095739Z
UID:1970-1597008600-1597012200@www.ecomuseodietamediterranea.it
SUMMARY:Premio Vigna Bio 2020
DESCRIPTION:i migliori vini biologici campani con Luciano Pignataro e Francesco Continisio. \nApertura banchi d’assaggio e stand gastronomici. \n
URL:https://www.ecomuseodietamediterranea.it/event/premio-vigna-bio-2020/
CATEGORIES:Edizione 2020
END:VEVENT
BEGIN:VEVENT
DTSTART;TZID=Europe/Rome:20200809T223000
DTEND;TZID=Europe/Rome:20200809T233000
DTSTAMP:20260423T044107
CREATED:20200804T095826Z
LAST-MODIFIED:20200804T095826Z
UID:1972-1597012200-1597015800@www.ecomuseodietamediterranea.it
SUMMARY:Premio Vigna Bio 2020
DESCRIPTION:Piero Lombardi in concerto \n
URL:https://www.ecomuseodietamediterranea.it/event/premio-vigna-bio-2020-2/
CATEGORIES:Edizione 2020
END:VEVENT
END:VCALENDAR