BEGIN:VCALENDAR
VERSION:2.0
PRODID:-// - ECPv4.6.20.1//NONSGML v1.0//EN
CALSCALE:GREGORIAN
METHOD:PUBLISH
X-ORIGINAL-URL:https://www.ecomuseodietamediterranea.it
X-WR-CALDESC:Events for 
BEGIN:VEVENT
DTSTART;TZID=Europe/Rome:20200808T190000
DTEND;TZID=Europe/Rome:20200808T233000
DTSTAMP:20260423T041646
CREATED:20200804T094714Z
LAST-MODIFIED:20200804T094714Z
UID:1958-1596913200-1596929400@www.ecomuseodietamediterranea.it
SUMMARY:Apertura Festival
DESCRIPTION:Vacanze Italiane\nConsegna 5 vele \ne presentazione itinerari turistici a cura di Legambiente e Touring Club Italiano \n
URL:https://www.ecomuseodietamediterranea.it/event/apertura-festival/
CATEGORIES:Edizione 2020
END:VEVENT
BEGIN:VEVENT
DTSTART;TZID=Europe/Rome:20200808T200000
DTEND;TZID=Europe/Rome:20200808T210000
DTSTAMP:20260423T041647
CREATED:20200804T094854Z
LAST-MODIFIED:20200804T095930Z
UID:1960-1596916800-1596920400@www.ecomuseodietamediterranea.it
SUMMARY:Terroir - Il mare color del vino
DESCRIPTION:Degustazione guidata a numero chiuso su prenotazione “I Vini in Anfora della Campania” a cura della Scuola Europea Sommelier \n
URL:https://www.ecomuseodietamediterranea.it/event/terroir-mare-color-del-vino/
CATEGORIES:Edizione 2020
END:VEVENT
BEGIN:VEVENT
DTSTART;TZID=Europe/Rome:20200808T210000
DTEND;TZID=Europe/Rome:20200808T213000
DTSTAMP:20260423T041647
CREATED:20200804T095101Z
LAST-MODIFIED:20200804T100017Z
UID:1962-1596920400-1596922200@www.ecomuseodietamediterranea.it
SUMMARY:Terroir - Il mare color del vino
DESCRIPTION:Apertura banchi d’assaggio e stand gastronomici \n
URL:https://www.ecomuseodietamediterranea.it/event/terroir-mare-color-del-vino-2/
CATEGORIES:Edizione 2020
END:VEVENT
BEGIN:VEVENT
DTSTART;TZID=Europe/Rome:20200808T223000
DTEND;TZID=Europe/Rome:20200808T233000
DTSTAMP:20260423T041647
CREATED:20200804T095231Z
LAST-MODIFIED:20200804T100047Z
UID:1964-1596925800-1596929400@www.ecomuseodietamediterranea.it
SUMMARY:Terroir - Il mare color del vino
DESCRIPTION:JFF Trio in concerto \ncon Annachiara Cosimato voce Federico Mileo piano Cristian Tarullo tromba \n  \n
URL:https://www.ecomuseodietamediterranea.it/event/terroir-mare-color-del-vino-3/
CATEGORIES:Edizione 2020
END:VEVENT
END:VCALENDAR